BEGIN:VCALENDAR
VERSION:2.0
PRODID:spatie/icalendar-generator
DESCRIPTION:Events from LWVCC
X-WR-CALDESC:Events from LWVCC
REFRESH-INTERVAL;VALUE=DURATION:PT1440M
X-PUBLISHED-TTL:PT1440M
BEGIN:VTIMEZONE
TZID:Etc/GMT+0
BEGIN:STANDARD
DTSTART:20240114T190000Z
TZOFFSETFROM:+0000
TZOFFSETTO:+0000
END:STANDARD
END:VTIMEZONE
BEGIN:VTIMEZONE
TZID:UTC
BEGIN:STANDARD
DTSTART:20250728T041847Z
TZOFFSETFROM:+0000
TZOFFSETTO:+0000
END:STANDARD
END:VTIMEZONE
BEGIN:VEVENT
UID:82-79
DTSTAMP:20260424T041847Z
SUMMARY:Live zoom meeting on Amendments 1 and 4. LWV Citrus members Rosemar
 y Nilles and Peg Primeau
LOCATION:
ORGANIZER;CN=vote:MAILTO:katebetsko@gmail.com
DTSTART;TZID=Etc/GMT+0:20241010T190000
DTEND;TZID=Etc/GMT+0:20241010T203000
X-ALT-DESC;FMTTYPE=TEXT/HTML:Learn about these amendments to make an inform
 ed vote in November. Floridians for Democracy. To register\, go to https:/
 /us02web.zoom.us/webinar/register/WN_dvJOi4FXRPmbcNgd_ikTIA#/registration
CATEGORIES:General
URL;VALUE=URI:https://www.lwvcitrus.org/mc-events/live-zoom-meeting-on-amen
 dments-1-and-4-lwv-citrus-members-rosemary-nilles-and-peg-primeau/
METHOD:PUBLISH
END:VEVENT
END:VCALENDAR