BEGIN:VCALENDAR
VERSION:2.0
PRODID:spatie/icalendar-generator
DESCRIPTION:Events from LWVCC
X-WR-CALDESC:Events from LWVCC
REFRESH-INTERVAL;VALUE=DURATION:PT1440M
X-PUBLISHED-TTL:PT1440M
BEGIN:VTIMEZONE
TZID:Etc/GMT+0
BEGIN:STANDARD
DTSTART:20240121T190000Z
TZOFFSETFROM:+0000
TZOFFSETTO:+0000
END:STANDARD
END:VTIMEZONE
BEGIN:VTIMEZONE
TZID:UTC
BEGIN:STANDARD
DTSTART:20250728T024724Z
TZOFFSETFROM:+0000
TZOFFSETTO:+0000
END:STANDARD
END:VTIMEZONE
BEGIN:VEVENT
UID:81-80
DTSTAMP:20260424T024724Z
SUMMARY:Amendments on the November Ballot
LOCATION:
ORGANIZER;CN=vote:MAILTO:katebetsko@gmail.com
DTSTART;TZID=Etc/GMT+0:20241017T190000
DTEND;TZID=Etc/GMT+0:20241017T203000
X-ALT-DESC;FMTTYPE=TEXT/HTML:Learn about the six amendments to make an info
 rmed vote in November. Vicky Iozzia will give the LWVFL powerpoint present
 ation. Go to https://us06web.zoom.us/meeting/register/tZclcemqqT8sH9KHe_NK
 qKk5MSp78XhSbxPB to register.
CATEGORIES:General
URL;VALUE=URI:https://www.lwvcitrus.org/mc-events/amendments-on-the-novembe
 r-ballot/
METHOD:PUBLISH
END:VEVENT
END:VCALENDAR