BEGIN:VCALENDAR
VERSION:2.0
PRODID:spatie/icalendar-generator
DESCRIPTION:Events from LWVCC
X-WR-CALDESC:Events from LWVCC
REFRESH-INTERVAL;VALUE=DURATION:PT1440M
X-PUBLISHED-TTL:PT1440M
BEGIN:VTIMEZONE
TZID:Etc/GMT+0
BEGIN:STANDARD
DTSTART:20231217T193000Z
TZOFFSETFROM:+0000
TZOFFSETTO:+0000
END:STANDARD
END:VTIMEZONE
BEGIN:VTIMEZONE
TZID:UTC
BEGIN:STANDARD
DTSTART:20250728T053744Z
TZOFFSETFROM:+0000
TZOFFSETTO:+0000
END:STANDARD
END:VTIMEZONE
BEGIN:VEVENT
UID:79-78
DTSTAMP:20260424T053744Z
SUMMARY:Floridians for Democracy\, Amendments 1 and 4
LOCATION:
ORGANIZER;CN=vote:MAILTO:katebetsko@gmail.com
DTSTART;TZID=Etc/GMT+0:20240912T193000
DTEND;TZID=Etc/GMT+0:20240912T210000
X-ALT-DESC;FMTTYPE=TEXT/HTML:Learn about aspects of amendment 1 and 4 to le
 arn information to be an informed voter. On zoom. To register\, go to http
 s://us02web.zoom.us/webinar/register/WN_dvJOi4FXRPmbcNgd_ikTIA#/registrati
 on
CATEGORIES:General
URL;VALUE=URI:https://www.lwvcitrus.org/mc-events/floridians-for-democracy-
 amendments-1-and-4/
METHOD:PUBLISH
END:VEVENT
END:VCALENDAR