BEGIN:VCALENDAR
VERSION:2.0
PRODID:spatie/icalendar-generator
DESCRIPTION:Events from LWVCC
X-WR-CALDESC:Events from LWVCC
REFRESH-INTERVAL;VALUE=DURATION:PT1440M
X-PUBLISHED-TTL:PT1440M
BEGIN:VTIMEZONE
TZID:Etc/GMT+0
BEGIN:STANDARD
DTSTART:20231001T130000Z
TZOFFSETFROM:+0000
TZOFFSETTO:+0000
END:STANDARD
END:VTIMEZONE
BEGIN:VTIMEZONE
TZID:UTC
BEGIN:STANDARD
DTSTART:20250728T113020Z
TZOFFSETFROM:+0000
TZOFFSETTO:+0000
END:STANDARD
END:VTIMEZONE
BEGIN:VEVENT
UID:76-75
DTSTAMP:20260424T113020Z
SUMMARY:Jim Gouvelis: The Role of a Free Press in Democracy
LOCATION:Coastal Region Library 8619 Crystal Street  Crystal River Florida 
 34429
ORGANIZER;CN=vote:MAILTO:katebetsko@gmail.com
DTSTART;TZID=Etc/GMT+0:20240627T130000
DTEND;TZID=Etc/GMT+0:20240627T150000
X-ALT-DESC;FMTTYPE=TEXT/HTML:Jim Gouvelis\, Editor of the Citrus County Chr
 onicle\, will speak about local community papers. He will talk about the r
 old of the free press as it pertains to elections. There will be time for 
 audience questions.
CATEGORIES:General
URL;VALUE=URI:https://www.lwvcitrus.org/mc-events/jim-gouvelis-the-role-of-
 a-free-press-in-democracy/
METHOD:PUBLISH
END:VEVENT
END:VCALENDAR