BEGIN:VCALENDAR
VERSION:2.0
PRODID:spatie/icalendar-generator
DESCRIPTION:Events from LWVCC
X-WR-CALDESC:Events from LWVCC
REFRESH-INTERVAL;VALUE=DURATION:PT1440M
X-PUBLISHED-TTL:PT1440M
BEGIN:VTIMEZONE
TZID:Etc/GMT+0
BEGIN:STANDARD
DTSTART:20230916T100000Z
TZOFFSETFROM:+0000
TZOFFSETTO:+0000
END:STANDARD
END:VTIMEZONE
BEGIN:VTIMEZONE
TZID:UTC
BEGIN:STANDARD
DTSTART:20250728T131806Z
TZOFFSETFROM:+0000
TZOFFSETTO:+0000
END:STANDARD
END:VTIMEZONE
BEGIN:VEVENT
UID:68-67
DTSTAMP:20260424T131806Z
SUMMARY:LWV General Meeting - Candidates for Supervisor of Elections and Fl
 orida House of Representatives
LOCATION:Citrus Springs Community Center 570 W Citrus Springs Blvd  Citrus 
 Springs Florida 34434
ORGANIZER;CN=vote:MAILTO:katebetsko@gmail.com
DTSTART;TZID=Etc/GMT+0:20240612T100000
DTEND;TZID=Etc/GMT+0:20240612T120000
X-ALT-DESC;FMTTYPE=TEXT/HTML:Testing Your Voting IQ Each candidate will hav
 e 3 minutes to introduce themselves with time for individual conversations
 .
CATEGORIES:General
URL;VALUE=URI:https://www.lwvcitrus.org/mc-events/lwv-general-meeting-candi
 dates-for-supervisor-of-elections-and-florida-house-of-representatives/
METHOD:PUBLISH
END:VEVENT
END:VCALENDAR