BEGIN:VCALENDAR
VERSION:2.0
PRODID:spatie/icalendar-generator
DESCRIPTION:Events from LWVCC
X-WR-CALDESC:Events from LWVCC
REFRESH-INTERVAL;VALUE=DURATION:PT1440M
X-PUBLISHED-TTL:PT1440M
BEGIN:VTIMEZONE
TZID:Etc/GMT+0
BEGIN:STANDARD
DTSTART:20230519T100000Z
TZOFFSETFROM:+0000
TZOFFSETTO:+0000
END:STANDARD
END:VTIMEZONE
BEGIN:VTIMEZONE
TZID:UTC
BEGIN:STANDARD
DTSTART:20250729T023632Z
TZOFFSETFROM:+0000
TZOFFSETTO:+0000
END:STANDARD
END:VTIMEZONE
BEGIN:VEVENT
UID:25-24
DTSTAMP:20260425T023632Z
SUMMARY:LWV General Meeting\, Dr. Lavon Wright Bracy
LOCATION:
ORGANIZER;CN=vote:MAILTO:katebetsko@gmail.com
DTSTART;TZID=Etc/GMT+0:20240213T100000
DTEND;TZID=Etc/GMT+0:20240213T120000
X-ALT-DESC;FMTTYPE=TEXT/HTML:
CATEGORIES:General
URL;VALUE=URI:https://www.lwvcitrus.org/mc-events/lwv-general-meeting-dr-la
 von-wright-bracy/
METHOD:PUBLISH
END:VEVENT
END:VCALENDAR