BEGIN:VCALENDAR
VERSION:2.0
PRODID:spatie/icalendar-generator
DESCRIPTION:Events from LWVCC
X-WR-CALDESC:Events from LWVCC
REFRESH-INTERVAL;VALUE=DURATION:PT1440M
X-PUBLISHED-TTL:PT1440M
BEGIN:VTIMEZONE
TZID:Etc/GMT+0
BEGIN:STANDARD
DTSTART:20250713T100000Z
TZOFFSETFROM:+0000
TZOFFSETTO:+0000
END:STANDARD
END:VTIMEZONE
BEGIN:VTIMEZONE
TZID:UTC
BEGIN:STANDARD
DTSTART:20250727T113021Z
TZOFFSETFROM:+0000
TZOFFSETTO:+0000
END:STANDARD
END:VTIMEZONE
BEGIN:VEVENT
UID:210-195
DTSTAMP:20260423T113021Z
SUMMARY:Coping with Dementia Care Partner Conference
LOCATION:Chet Cole Enrichment center 5325 W. Safari Lane  Lecanto FL
ORGANIZER;CN=cowit94617:MAILTO:cowit94617@dfesc.com
DTSTART;TZID=Etc/GMT+0:20260409T100000
DTEND;TZID=Etc/GMT+0:20260409T150000
X-ALT-DESC;FMTTYPE=TEXT/HTML:Free event
CATEGORIES:General
URL;VALUE=URI:https://www.lwvcitrus.org/mc-events/coping-with-dementia-care
 -partner-conference-2/
METHOD:PUBLISH
END:VEVENT
END:VCALENDAR