BEGIN:VCALENDAR
VERSION:2.0
PRODID:spatie/icalendar-generator
DESCRIPTION:Events from LWVCC
X-WR-CALDESC:Events from LWVCC
REFRESH-INTERVAL;VALUE=DURATION:PT1440M
X-PUBLISHED-TTL:PT1440M
BEGIN:VTIMEZONE
TZID:Etc/GMT+0
BEGIN:STANDARD
DTSTART:20250712T100000Z
TZOFFSETFROM:+0000
TZOFFSETTO:+0000
END:STANDARD
END:VTIMEZONE
BEGIN:VTIMEZONE
TZID:UTC
BEGIN:STANDARD
DTSTART:20250727T113148Z
TZOFFSETFROM:+0000
TZOFFSETTO:+0000
END:STANDARD
END:VTIMEZONE
BEGIN:VEVENT
UID:208-193
DTSTAMP:20260423T113148Z
SUMMARY:LWV meeting with guest speaker Rachel Montgomery
LOCATION:
ORGANIZER;CN=cowit94617:MAILTO:cowit94617@dfesc.com
DTSTART;TZID=Etc/GMT+0:20260408T100000
DTEND;TZID=Etc/GMT+0:20260408T113000
X-ALT-DESC;FMTTYPE=TEXT/HTML:Rachel will talk to us about her job as Chief 
 of Police for the Citrus County School District and upcoming opportunities
 .
CATEGORIES:General
URL;VALUE=URI:https://www.lwvcitrus.org/mc-events/lwv-meeting-with-guest-sp
 eaker-rachel-montgomery/
METHOD:PUBLISH
END:VEVENT
END:VCALENDAR