BEGIN:VCALENDAR
VERSION:2.0
PRODID:spatie/icalendar-generator
DESCRIPTION:Events from LWVCC
X-WR-CALDESC:Events from LWVCC
REFRESH-INTERVAL;VALUE=DURATION:PT1440M
X-PUBLISHED-TTL:PT1440M
BEGIN:VTIMEZONE
TZID:Etc/GMT+0
BEGIN:STANDARD
DTSTART:20250729T090000Z
TZOFFSETFROM:+0000
TZOFFSETTO:+0000
END:STANDARD
END:VTIMEZONE
BEGIN:VTIMEZONE
TZID:UTC
BEGIN:STANDARD
DTSTART:20250727T113021Z
TZOFFSETFROM:+0000
TZOFFSETTO:+0000
END:STANDARD
END:VTIMEZONE
BEGIN:VEVENT
UID:207-192
DTSTAMP:20260423T113021Z
SUMMARY:Healthy Kids Day at the College of Central Florida
LOCATION:College of Central Florida 3800 S Lecanto Highway  Lecanto FL 3446
 1
ORGANIZER;CN=cowit94617:MAILTO:cowit94617@dfesc.com
DTSTART;TZID=Etc/GMT+0:20260425T090000
DTEND;TZID=Etc/GMT+0:20260425T140000
X-ALT-DESC;FMTTYPE=TEXT/HTML:
CATEGORIES:General
URL;VALUE=URI:https://www.lwvcitrus.org/mc-events/healthy-kids-day-at-the-c
 ollege-of-central-florida/
METHOD:PUBLISH
END:VEVENT
END:VCALENDAR