BEGIN:VCALENDAR
VERSION:2.0
PRODID:spatie/icalendar-generator
DESCRIPTION:Events from LWVCC
X-WR-CALDESC:Events from LWVCC
REFRESH-INTERVAL;VALUE=DURATION:PT1440M
X-PUBLISHED-TTL:PT1440M
BEGIN:VTIMEZONE
TZID:Etc/GMT+0
BEGIN:STANDARD
DTSTART:20250722T100000Z
TZOFFSETFROM:+0000
TZOFFSETTO:+0000
END:STANDARD
END:VTIMEZONE
BEGIN:VTIMEZONE
TZID:UTC
BEGIN:STANDARD
DTSTART:20250727T113148Z
TZOFFSETFROM:+0000
TZOFFSETTO:+0000
END:STANDARD
END:VTIMEZONE
BEGIN:VEVENT
UID:206-191
DTSTAMP:20260423T113148Z
SUMMARY:Earth Day and Trash to Treasure event
LOCATION:IFAS Extension Citrus County 3650 W Sovereign Path\, Suite 1  Leca
 nto Florida 34461
ORGANIZER;CN=cowit94617:MAILTO:cowit94617@dfesc.com
DTSTART;TZID=Etc/GMT+0:20260418T100000
DTEND;TZID=Etc/GMT+0:20260418T160000
X-ALT-DESC;FMTTYPE=TEXT/HTML:Come by to say hello. Join our volunteer team 
 for a few hours to engage and educate others at these annual events to cel
 ebrate Mother Earth. Email sierraclubadventurecoastcc@gmail.com or call 3
 52-277-3330 to learn more.  Treasure Recycled Art Contest also.
CATEGORIES:General
URL;VALUE=URI:https://www.lwvcitrus.org/mc-events/earth-day-and-trash-to-tr
 easure-event/
METHOD:PUBLISH
END:VEVENT
END:VCALENDAR