BEGIN:VCALENDAR
VERSION:2.0
PRODID:spatie/icalendar-generator
DESCRIPTION:Events from LWVCC
X-WR-CALDESC:Events from LWVCC
REFRESH-INTERVAL;VALUE=DURATION:PT1440M
X-PUBLISHED-TTL:PT1440M
BEGIN:VTIMEZONE
TZID:Etc/GMT+0
BEGIN:STANDARD
DTSTART:20250726T160000Z
TZOFFSETFROM:+0000
TZOFFSETTO:+0000
END:STANDARD
END:VTIMEZONE
BEGIN:VTIMEZONE
TZID:UTC
BEGIN:STANDARD
DTSTART:20250727T113149Z
TZOFFSETFROM:+0000
TZOFFSETTO:+0000
END:STANDARD
END:VTIMEZONE
BEGIN:VEVENT
UID:205-190
DTSTAMP:20260423T113149Z
SUMMARY:Cattle Dog Social for the League of Women Voters of Citrus County
LOCATION:Cattle Dog Restaurant\, Inverness
ORGANIZER;CN=cowit94617:MAILTO:cowit94617@dfesc.com
DTSTART;TZID=Etc/GMT+0:20260422T160000
DTEND;TZID=Etc/GMT+0:20260422T170000
X-ALT-DESC;FMTTYPE=TEXT/HTML:Come and join us for a cup of something and pe
 rhaps a snack. Just speak with us\, get to know us and vice versa.
CATEGORIES:General
URL;VALUE=URI:https://www.lwvcitrus.org/mc-events/cattle-dog-social-for-the
 -league-of-women-voters-of-citrus-county/
METHOD:PUBLISH
END:VEVENT
END:VCALENDAR