BEGIN:VCALENDAR
VERSION:2.0
PRODID:spatie/icalendar-generator
DESCRIPTION:Events from LWVCC
X-WR-CALDESC:Events from LWVCC
REFRESH-INTERVAL;VALUE=DURATION:PT1440M
X-PUBLISHED-TTL:PT1440M
BEGIN:VTIMEZONE
TZID:Etc/GMT+0
BEGIN:STANDARD
DTSTART:20250419T190000Z
TZOFFSETFROM:+0000
TZOFFSETTO:+0000
END:STANDARD
END:VTIMEZONE
BEGIN:VTIMEZONE
TZID:UTC
BEGIN:STANDARD
DTSTART:20250727T164339Z
TZOFFSETFROM:+0000
TZOFFSETTO:+0000
END:STANDARD
END:VTIMEZONE
BEGIN:VEVENT
UID:181-168
DTSTAMP:20260423T164339Z
SUMMARY:LWV of Citrus County\, Steve Howard\, County Administrator
LOCATION:
ORGANIZER;CN=cowit94617:MAILTO:cowit94617@dfesc.com
DTSTART;TZID=Etc/GMT+0:20260114T190000
DTEND;TZID=Etc/GMT+0:20260114T203000
X-ALT-DESC;FMTTYPE=TEXT/HTML:Steve Howard and his team will discuss the pre
 sent condition of roads in Citrus County\, and plans to fix them.
CATEGORIES:General
URL;VALUE=URI:https://www.lwvcitrus.org/mc-events/lwv-of-citrus-county-stev
 e-howard-county-administrator/
METHOD:PUBLISH
END:VEVENT
END:VCALENDAR