BEGIN:VCALENDAR
VERSION:2.0
PRODID:spatie/icalendar-generator
DESCRIPTION:Events from LWVCC
X-WR-CALDESC:Events from LWVCC
REFRESH-INTERVAL;VALUE=DURATION:PT1440M
X-PUBLISHED-TTL:PT1440M
BEGIN:VTIMEZONE
TZID:Etc/GMT+0
BEGIN:STANDARD
DTSTART:20250419T100000Z
TZOFFSETFROM:+0000
TZOFFSETTO:+0000
END:STANDARD
END:VTIMEZONE
BEGIN:VTIMEZONE
TZID:UTC
BEGIN:STANDARD
DTSTART:20250727T150459Z
TZOFFSETFROM:+0000
TZOFFSETTO:+0000
END:STANDARD
END:VTIMEZONE
BEGIN:VEVENT
UID:180-167
DTSTAMP:20260423T150459Z
SUMMARY:LWV General meeting\, Ann Marie Granger Welch with Families for Str
 ong Public Schools
LOCATION:
ORGANIZER;CN=cowit94617:MAILTO:cowit94617@dfesc.com
DTSTART;TZID=Etc/GMT+0:20260114T100000
DTEND;TZID=Etc/GMT+0:20260114T120000
X-ALT-DESC;FMTTYPE=TEXT/HTML:Our guest speakers will talk about the challen
 ges facing public schools in Florida.
CATEGORIES:General
URL;VALUE=URI:https://www.lwvcitrus.org/mc-events/lwv-general-meeting-ann-m
 arie-granger-welch-with-families-for-strong-public-schools/
METHOD:PUBLISH
END:VEVENT
END:VCALENDAR