BEGIN:VCALENDAR
VERSION:2.0
PRODID:spatie/icalendar-generator
DESCRIPTION:Events from LWVCC
X-WR-CALDESC:Events from LWVCC
REFRESH-INTERVAL;VALUE=DURATION:PT1440M
X-PUBLISHED-TTL:PT1440M
BEGIN:VTIMEZONE
TZID:Etc/GMT+0
BEGIN:STANDARD
DTSTART:20250315T093000Z
TZOFFSETFROM:+0000
TZOFFSETTO:+0000
END:STANDARD
END:VTIMEZONE
BEGIN:VTIMEZONE
TZID:UTC
BEGIN:STANDARD
DTSTART:20250727T150459Z
TZOFFSETFROM:+0000
TZOFFSETTO:+0000
END:STANDARD
END:VTIMEZONE
BEGIN:VEVENT
UID:177-164
DTSTAMP:20260423T150459Z
SUMMARY:Glory Days Luncheon with Scott Hebert and David Vincent
LOCATION:
ORGANIZER;CN=cowit94617:MAILTO:cowit94617@dfesc.com
DTSTART;TZID=Etc/GMT+0:20251210T093000
DTEND;TZID=Etc/GMT+0:20251210T130000
X-ALT-DESC;FMTTYPE=TEXT/HTML:Superintendent Scott Hebert and Sheriff David 
 Vincent will speak at our Luncheon at Glory Days Doors open at 9:30\, Prog
 ram begins at 10\, lunch at 11
CATEGORIES:General
URL;VALUE=URI:https://www.lwvcitrus.org/mc-events/glory-days-luncheon-with-
 scott-hebert-and-david-vincent/
METHOD:PUBLISH
END:VEVENT
END:VCALENDAR