BEGIN:VCALENDAR
VERSION:2.0
PRODID:spatie/icalendar-generator
DESCRIPTION:Events from LWVCC
X-WR-CALDESC:Events from LWVCC
REFRESH-INTERVAL;VALUE=DURATION:PT1440M
X-PUBLISHED-TTL:PT1440M
BEGIN:VTIMEZONE
TZID:Etc/GMT+0
BEGIN:STANDARD
DTSTART:20250222T160000Z
TZOFFSETFROM:+0000
TZOFFSETTO:+0000
END:STANDARD
END:VTIMEZONE
BEGIN:VTIMEZONE
TZID:UTC
BEGIN:STANDARD
DTSTART:20250727T164400Z
TZOFFSETFROM:+0000
TZOFFSETTO:+0000
END:STANDARD
END:VTIMEZONE
BEGIN:VEVENT
UID:176-163
DTSTAMP:20260423T164400Z
SUMMARY:League Social at Cattle Dog Restaurant in Inverness
LOCATION:Cattle Dog Restaurant\, Inverness
ORGANIZER;CN=cowit94617:MAILTO:cowit94617@dfesc.com
DTSTART;TZID=Etc/GMT+0:20251119T160000
DTEND;TZID=Etc/GMT+0:20251119T170000
X-ALT-DESC;FMTTYPE=TEXT/HTML:Come\, chat. Let's get to know each other!
CATEGORIES:General
URL;VALUE=URI:https://www.lwvcitrus.org/mc-events/league-social-at-cattle-d
 og-restaurant-in-inverness/
METHOD:PUBLISH
END:VEVENT
END:VCALENDAR