BEGIN:VCALENDAR
VERSION:2.0
PRODID:spatie/icalendar-generator
DESCRIPTION:Events from LWVCC
X-WR-CALDESC:Events from LWVCC
REFRESH-INTERVAL;VALUE=DURATION:PT1440M
X-PUBLISHED-TTL:PT1440M
BEGIN:VTIMEZONE
TZID:Etc/GMT+0
BEGIN:STANDARD
DTSTART:20230408T090000Z
TZOFFSETFROM:+0000
TZOFFSETTO:+0000
END:STANDARD
END:VTIMEZONE
BEGIN:VTIMEZONE
TZID:UTC
BEGIN:STANDARD
DTSTART:20250729T102256Z
TZOFFSETFROM:+0000
TZOFFSETTO:+0000
END:STANDARD
END:VTIMEZONE
BEGIN:VEVENT
UID:16-15
DTSTAMP:20260425T102256Z
SUMMARY:LWVCC Board meeting on Zoom
LOCATION:
ORGANIZER;CN=vote:MAILTO:katebetsko@gmail.com
DTSTART;TZID=Etc/GMT+0:20240103T090000
DTEND;TZID=Etc/GMT+0:20240103T110000
X-ALT-DESC;FMTTYPE=TEXT/HTML:Board members will discuss plans and issues.
CATEGORIES:General
URL;VALUE=URI:https://www.lwvcitrus.org/mc-events/lwvcc-board-meeting-on-zo
 om/
METHOD:PUBLISH
END:VEVENT
END:VCALENDAR