BEGIN:VCALENDAR
VERSION:2.0
PRODID:spatie/icalendar-generator
DESCRIPTION:Events from LWVCC
X-WR-CALDESC:Events from LWVCC
REFRESH-INTERVAL;VALUE=DURATION:PT1440M
X-PUBLISHED-TTL:PT1440M
BEGIN:VTIMEZONE
TZID:Etc/GMT+0
BEGIN:STANDARD
DTSTART:20240713T190000Z
TZOFFSETFROM:+0000
TZOFFSETTO:+0000
END:STANDARD
END:VTIMEZONE
BEGIN:VTIMEZONE
TZID:UTC
BEGIN:STANDARD
DTSTART:20250727T223749Z
TZOFFSETFROM:+0000
TZOFFSETTO:+0000
END:STANDARD
END:VTIMEZONE
BEGIN:VEVENT
UID:136-128
DTSTAMP:20260423T223749Z
SUMMARY:League of Women Voters Zoom Federal Judiciary Study
LOCATION:
ORGANIZER;CN=cowit94617:MAILTO:cowit94617@dfesc.com
DTSTART;TZID=Etc/GMT+0:20250409T190000
DTEND;TZID=Etc/GMT+0:20250409T200000
X-ALT-DESC;FMTTYPE=TEXT/HTML:Advocacy by LWV at the national and regional l
 evel is based on careful study and discussion. Members are encouraged to 
 participate and voice opinions on political issues. Consensus is reached t
 o ensure that the League is speaking with one voice. This approach makes L
 eague action uniquely credible and respected. To register for the zoom mee
 ting\, go&amp;hellip\;
CATEGORIES:General
URL;VALUE=URI:https://www.lwvcitrus.org/mc-events/league-of-women-voters-zo
 om-federal-judiciary-study/
METHOD:PUBLISH
END:VEVENT
END:VCALENDAR