BEGIN:VCALENDAR
VERSION:2.0
PRODID:spatie/icalendar-generator
DESCRIPTION:Events from LWVCC
X-WR-CALDESC:Events from LWVCC
REFRESH-INTERVAL;VALUE=DURATION:PT1440M
X-PUBLISHED-TTL:PT1440M
BEGIN:VTIMEZONE
TZID:Etc/GMT+0
BEGIN:STANDARD
DTSTART:20240709T130000Z
TZOFFSETFROM:+0000
TZOFFSETTO:+0000
END:STANDARD
END:VTIMEZONE
BEGIN:VTIMEZONE
TZID:UTC
BEGIN:STANDARD
DTSTART:20250727T235249Z
TZOFFSETFROM:+0000
TZOFFSETTO:+0000
END:STANDARD
END:VTIMEZONE
BEGIN:VEVENT
UID:135-127
DTSTAMP:20260423T235249Z
SUMMARY:Dr. BJ Ezell will speak about Black History Month
LOCATION:Lakes Region Library 1511 Druid Road  Inverness Florida 34452
ORGANIZER;CN=cowit94617:MAILTO:cowit94617@dfesc.com
DTSTART;TZID=Etc/GMT+0:20250405T130000
DTEND;TZID=Etc/GMT+0:20250405T140000
X-ALT-DESC;FMTTYPE=TEXT/HTML:Dr Ezell will speak about what Black History M
 onth means to her\, with her powerpoint presentation titled: \" The black 
 vote in Citrus County Florida\, Then\, Now\, and Beyond\"
CATEGORIES:General
URL;VALUE=URI:https://www.lwvcitrus.org/mc-events/dr-bj-ezell-will-speak-ab
 out-black-history-month/
METHOD:PUBLISH
END:VEVENT
END:VCALENDAR