BEGIN:VCALENDAR
VERSION:2.0
PRODID:spatie/icalendar-generator
DESCRIPTION:Events from LWVCC
X-WR-CALDESC:Events from LWVCC
REFRESH-INTERVAL;VALUE=DURATION:PT1440M
X-PUBLISHED-TTL:PT1440M
BEGIN:VTIMEZONE
TZID:Etc/GMT+0
BEGIN:STANDARD
DTSTART:20240529T130000Z
TZOFFSETFROM:+0000
TZOFFSETTO:+0000
END:STANDARD
END:VTIMEZONE
BEGIN:VTIMEZONE
TZID:UTC
BEGIN:STANDARD
DTSTART:20250727T235441Z
TZOFFSETFROM:+0000
TZOFFSETTO:+0000
END:STANDARD
END:VTIMEZONE
BEGIN:VEVENT
UID:130-123
DTSTAMP:20260423T235441Z
SUMMARY:Department of Health Health Fair at Inverness Senior Games
LOCATION:Liberty Park 268 N Apopka Avenue  Inverness
ORGANIZER;CN=cowit94617:MAILTO:cowit94617@dfesc.com
DTSTART;TZID=Etc/GMT+0:20250223T130000
DTEND;TZID=Etc/GMT+0:20250223T150000
X-ALT-DESC;FMTTYPE=TEXT/HTML:The closing ceremony of the Senior Games will 
 take place. Our League will have a table on gun safety.
CATEGORIES:General
URL;VALUE=URI:https://www.lwvcitrus.org/mc-events/department-of-health-heal
 th-fair-at-inverness-senior-games/
METHOD:PUBLISH
END:VEVENT
END:VCALENDAR