BEGIN:VCALENDAR
VERSION:2.0
PRODID:spatie/icalendar-generator
DESCRIPTION:Events from LWVCC
X-WR-CALDESC:Events from LWVCC
REFRESH-INTERVAL;VALUE=DURATION:PT1440M
X-PUBLISHED-TTL:PT1440M
BEGIN:VTIMEZONE
TZID:Etc/GMT+0
BEGIN:STANDARD
DTSTART:20240713T100000Z
TZOFFSETFROM:+0000
TZOFFSETTO:+0000
END:STANDARD
END:VTIMEZONE
BEGIN:VTIMEZONE
TZID:UTC
BEGIN:STANDARD
DTSTART:20250727T194745Z
TZOFFSETFROM:+0000
TZOFFSETTO:+0000
END:STANDARD
END:VTIMEZONE
BEGIN:VEVENT
UID:92-89
DTSTAMP:20260423T194745Z
SUMMARY:LWV General Meeting with Rachel Newman\, Title IX
LOCATION:Coastal Region Library 8619 Crystal Street  Crystal River Florida 
 34429
ORGANIZER;CN=Public Submitter:MAILTO:
DTSTART;TZID=Etc/GMT+0:20250409T100000
DTEND;TZID=Etc/GMT+0:20250409T120000
X-ALT-DESC;FMTTYPE=TEXT/HTML:How much have you heard about the protection f
 rom Sex-Based Discrimination called Title IX? On April 9 the League of Wom
 en Voters of Citrus County will have Rachel Newman as our guest speaker. R
 achel is a Behavioral Health Technician for SMA Healthcare and a National 
 Policy and Grassroods Organizer for Title IX. She will outline&amp;hellip\;
CATEGORIES:General
URL;VALUE=URI:https://www.lwvcitrus.org/mc-events/lwv-general-meeting-with-
 rachel-newman-title-ix/
METHOD:PUBLISH
END:VEVENT
END:VCALENDAR