BEGIN:VCALENDAR
VERSION:2.0
PRODID:spatie/icalendar-generator
DESCRIPTION:Events from LWVCC
X-WR-CALDESC:Events from LWVCC
REFRESH-INTERVAL;VALUE=DURATION:PT1440M
X-PUBLISHED-TTL:PT1440M
BEGIN:VTIMEZONE
TZID:Etc/GMT+0
BEGIN:STANDARD
DTSTART:20240615T100000Z
TZOFFSETFROM:+0000
TZOFFSETTO:+0000
END:STANDARD
END:VTIMEZONE
BEGIN:VTIMEZONE
TZID:UTC
BEGIN:STANDARD
DTSTART:20250728T001503Z
TZOFFSETFROM:+0000
TZOFFSETTO:+0000
END:STANDARD
END:VTIMEZONE
BEGIN:VEVENT
UID:91-88
DTSTAMP:20260424T001503Z
SUMMARY:LWV Speaker Sheriff David Vincent\, General Meeting\,Luncheon and e
 lection
LOCATION:
ORGANIZER;CN=Public Submitter:MAILTO:
DTSTART;TZID=Etc/GMT+0:20250312T100000
DTEND;TZID=Etc/GMT+0:20250312T120000
X-ALT-DESC;FMTTYPE=TEXT/HTML:Luncheon and elections speaker David Vincent
CATEGORIES:General
URL;VALUE=URI:https://www.lwvcitrus.org/mc-events/lwv-speaker-sheriff-david
 -vincent-general-meetingluncheon-and-election/
METHOD:PUBLISH
END:VEVENT
END:VCALENDAR