BEGIN:VCALENDAR
VERSION:2.0
PRODID:spatie/icalendar-generator
DESCRIPTION:Events from LWVCC
X-WR-CALDESC:Events from LWVCC
REFRESH-INTERVAL;VALUE=DURATION:PT1440M
X-PUBLISHED-TTL:PT1440M
BEGIN:VTIMEZONE
TZID:Etc/GMT+0
BEGIN:STANDARD
DTSTART:20231226T101500Z
TZOFFSETFROM:+0000
TZOFFSETTO:+0000
END:STANDARD
END:VTIMEZONE
BEGIN:VTIMEZONE
TZID:UTC
BEGIN:STANDARD
DTSTART:20250728T054119Z
TZOFFSETFROM:+0000
TZOFFSETTO:+0000
END:STANDARD
END:VTIMEZONE
BEGIN:VEVENT
UID:78-77
DTSTAMP:20260424T054119Z
SUMMARY:Postcard party Floridians Protecting Freedom
LOCATION:Central Ridge Library 425 W. Roosevelt Blvd  Beverly Hills Florida
  34452
ORGANIZER;CN=vote:MAILTO:katebetsko@gmail.com
DTSTART;TZID=Etc/GMT+0:20240921T101500
DTEND;TZID=Etc/GMT+0:20240921T120000
X-ALT-DESC;FMTTYPE=TEXT/HTML:Come to fill out postcards to support Yes vote
  on Amendment 4
CATEGORIES:General
URL;VALUE=URI:https://www.lwvcitrus.org/mc-events/postcard-party-floridians
 -protecting-freedom/
METHOD:PUBLISH
END:VEVENT
END:VCALENDAR