BEGIN:VCALENDAR
VERSION:2.0
PRODID:spatie/icalendar-generator
DESCRIPTION:Events from LWVCC
X-WR-CALDESC:Events from LWVCC
REFRESH-INTERVAL;VALUE=DURATION:PT1440M
X-PUBLISHED-TTL:PT1440M
BEGIN:VTIMEZONE
TZID:Etc/GMT+0
BEGIN:STANDARD
DTSTART:20231012T180000Z
TZOFFSETFROM:+0000
TZOFFSETTO:+0000
END:STANDARD
END:VTIMEZONE
BEGIN:VTIMEZONE
TZID:UTC
BEGIN:STANDARD
DTSTART:20250728T100703Z
TZOFFSETFROM:+0000
TZOFFSETTO:+0000
END:STANDARD
END:VTIMEZONE
BEGIN:VEVENT
UID:77-76
DTSTAMP:20260424T100703Z
SUMMARY:Citrus County Chronicle Candidate Forum
LOCATION:Citrus County Auditorium 3610 U.S. 41  Inverness FL 34450
ORGANIZER;CN=vote:MAILTO:katebetsko@gmail.com
DTSTART;TZID=Etc/GMT+0:20240708T180000
DTEND;TZID=Etc/GMT+0:20240708T203000
X-ALT-DESC;FMTTYPE=TEXT/HTML:Candidates have been invited to answer questio
 ns at this forum. The League of Women Voters of Citrus County has particip
 ated in the planning of this event. Be there early. Doors open at 5:00\, a
 nd event starts at 6:00 PM. &amp;nbsp\;
CATEGORIES:General
URL;VALUE=URI:https://www.lwvcitrus.org/mc-events/citrus-county-chronicle-c
 andidate-forum/
METHOD:PUBLISH
END:VEVENT
END:VCALENDAR