BEGIN:VCALENDAR
VERSION:2.0
PRODID:spatie/icalendar-generator
DESCRIPTION:Events from LWVCC
X-WR-CALDESC:Events from LWVCC
REFRESH-INTERVAL;VALUE=DURATION:PT1440M
X-PUBLISHED-TTL:PT1440M
BEGIN:VTIMEZONE
TZID:Etc/GMT+0
BEGIN:STANDARD
DTSTART:20230718T000000Z
TZOFFSETFROM:+0000
TZOFFSETTO:+0000
END:STANDARD
END:VTIMEZONE
BEGIN:VTIMEZONE
TZID:UTC
BEGIN:STANDARD
DTSTART:20250728T195529Z
TZOFFSETFROM:+0000
TZOFFSETTO:+0000
END:STANDARD
END:VTIMEZONE
BEGIN:VEVENT
UID:75-74
DTSTAMP:20260424T195529Z
SUMMARY:Department of Health Minority Health Fair
LOCATION:George Washington Carver Community Center 95 Three Sisters Springs
  Trail  Crystal River Florida 34429
ORGANIZER;CN=vote:MAILTO:katebetsko@gmail.com
DTSTART;TZID=Etc/GMT+0;VALUE=DATE:20240413
DTEND;TZID=Etc/GMT+0;VALUE=DATE:20240414
X-ALT-DESC;FMTTYPE=TEXT/HTML:
CATEGORIES:General
URL;VALUE=URI:https://www.lwvcitrus.org/mc-events/department-of-health-mino
 rity-health-fair/
METHOD:PUBLISH
END:VEVENT
END:VCALENDAR