BEGIN:VCALENDAR
VERSION:2.0
PRODID:spatie/icalendar-generator
DESCRIPTION:Events from LWVCC
X-WR-CALDESC:Events from LWVCC
REFRESH-INTERVAL;VALUE=DURATION:PT1440M
X-PUBLISHED-TTL:PT1440M
BEGIN:VTIMEZONE
TZID:Etc/GMT+0
BEGIN:STANDARD
DTSTART:20240316T113000Z
TZOFFSETFROM:+0000
TZOFFSETTO:+0000
END:STANDARD
END:VTIMEZONE
BEGIN:VTIMEZONE
TZID:UTC
BEGIN:STANDARD
DTSTART:20250728T002746Z
TZOFFSETFROM:+0000
TZOFFSETTO:+0000
END:STANDARD
END:VTIMEZONE
BEGIN:VEVENT
UID:74-73
DTSTAMP:20260424T002746Z
SUMMARY:LWV General Meeting - Luncheon with guest speaker Trina Murphy
LOCATION:Glory Days Restaurant 3148 W Norvell Bryant Highway  Lecanto Flori
 da 34461
ORGANIZER;CN=vote:MAILTO:katebetsko@gmail.com
DTSTART;TZID=Etc/GMT+0:20241211T113000
DTEND;TZID=Etc/GMT+0:20241212T013000
X-ALT-DESC;FMTTYPE=TEXT/HTML:Trina Murphy\, Publisher of the Citrus County 
 Chronicle\, will be our guest speaker at this luncheon.
CATEGORIES:General
URL;VALUE=URI:https://www.lwvcitrus.org/mc-events/lwv-general-meeting-lunch
 eon-with-guest-speaker-trina-murphy/
METHOD:PUBLISH
END:VEVENT
END:VCALENDAR