BEGIN:VCALENDAR
VERSION:2.0
PRODID:spatie/icalendar-generator
DESCRIPTION:Events from LWVCC
X-WR-CALDESC:Events from LWVCC
REFRESH-INTERVAL;VALUE=DURATION:PT1440M
X-PUBLISHED-TTL:PT1440M
BEGIN:VTIMEZONE
TZID:Etc/GMT+0
BEGIN:STANDARD
DTSTART:20240217T100000Z
TZOFFSETFROM:+0000
TZOFFSETTO:+0000
END:STANDARD
END:VTIMEZONE
BEGIN:VTIMEZONE
TZID:UTC
BEGIN:STANDARD
DTSTART:20250728T045010Z
TZOFFSETFROM:+0000
TZOFFSETTO:+0000
END:STANDARD
END:VTIMEZONE
BEGIN:VEVENT
UID:73-72
DTSTAMP:20260424T045010Z
SUMMARY:LWV General Meeting - What Next?
LOCATION:Coastal Region Library 8619 Crystal Street  Crystal River Florida 
 34429
ORGANIZER;CN=vote:MAILTO:katebetsko@gmail.com
DTSTART;TZID=Etc/GMT+0:20241113T100000
DTEND;TZID=Etc/GMT+0:20241113T120000
X-ALT-DESC;FMTTYPE=TEXT/HTML:This meeting will be a mixture of playful deco
 mpression and casual brainstorming about where we want to go in 2025. Brin
 g your inner child and your people-power wishlist.
CATEGORIES:General
URL;VALUE=URI:https://www.lwvcitrus.org/mc-events/lwv-general-meeting-what-
 next/
METHOD:PUBLISH
END:VEVENT
END:VCALENDAR