BEGIN:VCALENDAR
VERSION:2.0
PRODID:spatie/icalendar-generator
DESCRIPTION:Events from LWVCC
X-WR-CALDESC:Events from LWVCC
REFRESH-INTERVAL;VALUE=DURATION:PT1440M
X-PUBLISHED-TTL:PT1440M
BEGIN:VTIMEZONE
TZID:Etc/GMT+0
BEGIN:STANDARD
DTSTART:20240113T100000Z
TZOFFSETFROM:+0000
TZOFFSETTO:+0000
END:STANDARD
END:VTIMEZONE
BEGIN:VTIMEZONE
TZID:UTC
BEGIN:STANDARD
DTSTART:20250728T012602Z
TZOFFSETFROM:+0000
TZOFFSETTO:+0000
END:STANDARD
END:VTIMEZONE
BEGIN:VEVENT
UID:72-71
DTSTAMP:20260424T012602Z
SUMMARY:LWV General Meeting - Supervisor of Elections
LOCATION:Coastal Region Library 8619 Crystal Street  Crystal River Florida 
 34429
ORGANIZER;CN=vote:MAILTO:katebetsko@gmail.com
DTSTART;TZID=Etc/GMT+0:20241009T100000
DTEND;TZID=Etc/GMT+0:20241009T120000
X-ALT-DESC;FMTTYPE=TEXT/HTML:Supervisor of Elections Maureen Baird will spe
 ak about the 2024 Presidential Election.
CATEGORIES:General
URL;VALUE=URI:https://www.lwvcitrus.org/mc-events/lwv-general-meeting-super
 visor-of-elections/
METHOD:PUBLISH
END:VEVENT
END:VCALENDAR