BEGIN:VCALENDAR
VERSION:2.0
PRODID:spatie/icalendar-generator
DESCRIPTION:Events from LWVCC
X-WR-CALDESC:Events from LWVCC
REFRESH-INTERVAL;VALUE=DURATION:PT1440M
X-PUBLISHED-TTL:PT1440M
BEGIN:VTIMEZONE
TZID:Etc/GMT+0
BEGIN:STANDARD
DTSTART:20231118T100000Z
TZOFFSETFROM:+0000
TZOFFSETTO:+0000
END:STANDARD
END:VTIMEZONE
BEGIN:VTIMEZONE
TZID:UTC
BEGIN:STANDARD
DTSTART:20250728T071335Z
TZOFFSETFROM:+0000
TZOFFSETTO:+0000
END:STANDARD
END:VTIMEZONE
BEGIN:VEVENT
UID:70-69
DTSTAMP:20260424T071335Z
SUMMARY:LWV General Meeting - Overview of the Judicial System\, Judicial Ca
 ndidates
LOCATION:Coastal Region Library 8619 Crystal Street  Crystal River Florida 
 34429
ORGANIZER;CN=vote:MAILTO:katebetsko@gmail.com
DTSTART;TZID=Etc/GMT+0:20240814T100000
DTEND;TZID=Etc/GMT+0:20240814T120000
X-ALT-DESC;FMTTYPE=TEXT/HTML:County Attorney Denise Dymond Lyn will speak a
 bout the judicial system. Judicial candidates are invited to Meet and Gree
 t.
CATEGORIES:General
URL;VALUE=URI:https://www.lwvcitrus.org/mc-events/lwv-general-meeting-overv
 iew-of-the-judicial-system-judicial-candidates/
METHOD:PUBLISH
END:VEVENT
END:VCALENDAR