BEGIN:VCALENDAR
VERSION:2.0
PRODID:spatie/icalendar-generator
DESCRIPTION:Events from LWVCC
X-WR-CALDESC:Events from LWVCC
REFRESH-INTERVAL;VALUE=DURATION:PT1440M
X-PUBLISHED-TTL:PT1440M
BEGIN:VTIMEZONE
TZID:Etc/GMT+0
BEGIN:STANDARD
DTSTART:20231014T100000Z
TZOFFSETFROM:+0000
TZOFFSETTO:+0000
END:STANDARD
END:VTIMEZONE
BEGIN:VTIMEZONE
TZID:UTC
BEGIN:STANDARD
DTSTART:20250728T100307Z
TZOFFSETFROM:+0000
TZOFFSETTO:+0000
END:STANDARD
END:VTIMEZONE
BEGIN:VEVENT
UID:69-68
DTSTAMP:20260424T100307Z
SUMMARY:LWV General Meeting - Candidates for Citrus County Board of Commiss
 ioners
LOCATION:Citrus Springs Community Center 570 W Citrus Springs Blvd  Citrus 
 Springs Florida 34434
ORGANIZER;CN=vote:MAILTO:katebetsko@gmail.com
DTSTART;TZID=Etc/GMT+0:20240710T100000
DTEND;TZID=Etc/GMT+0:20240710T120000
X-ALT-DESC;FMTTYPE=TEXT/HTML:Florida's Expanding Preemption Laws: Meet and 
 greet - each candidate will have 3 minutes to introduce themselves with ti
 me for individual conversations.
CATEGORIES:General
URL;VALUE=URI:https://www.lwvcitrus.org/mc-events/lwv-general-meeting-candi
 dates-for-citrus-county-board-of-commissioners/
METHOD:PUBLISH
END:VEVENT
END:VCALENDAR