BEGIN:VCALENDAR
VERSION:2.0
PRODID:spatie/icalendar-generator
DESCRIPTION:Events from LWVCC
X-WR-CALDESC:Events from LWVCC
REFRESH-INTERVAL;VALUE=DURATION:PT1440M
X-PUBLISHED-TTL:PT1440M
BEGIN:VTIMEZONE
TZID:Etc/GMT+0
BEGIN:STANDARD
DTSTART:20230312T090000Z
TZOFFSETFROM:+0000
TZOFFSETTO:+0000
END:STANDARD
END:VTIMEZONE
BEGIN:VTIMEZONE
TZID:UTC
BEGIN:STANDARD
DTSTART:20250729T152139Z
TZOFFSETFROM:+0000
TZOFFSETTO:+0000
END:STANDARD
END:VTIMEZONE
BEGIN:VEVENT
UID:5-5
DTSTAMP:20260425T152139Z
SUMMARY:LWV of Citrus County Board meeting on zoom
LOCATION:
ORGANIZER;CN=vote:MAILTO:katebetsko@gmail.com
DTSTART;TZID=Etc/GMT+0:20231207T090000
DTEND;TZID=Etc/GMT+0:20231207T103000
X-ALT-DESC;FMTTYPE=TEXT/HTML:The board members meet to collaborate and repo
 rt on projects in process and completed.
CATEGORIES:General
URL;VALUE=URI:https://www.lwvcitrus.org/mc-events/lwv-of-citrus-county-boar
 d-meeting-on-zoom/
METHOD:PUBLISH
END:VEVENT
END:VCALENDAR