BEGIN:VCALENDAR
VERSION:2.0
PRODID:spatie/icalendar-generator
DESCRIPTION:Events from LWVCC
X-WR-CALDESC:Events from LWVCC
REFRESH-INTERVAL;VALUE=DURATION:PT1440M
X-PUBLISHED-TTL:PT1440M
BEGIN:VTIMEZONE
TZID:Etc/GMT+0
BEGIN:STANDARD
DTSTART:20230314T120000Z
TZOFFSETFROM:+0000
TZOFFSETTO:+0000
END:STANDARD
END:VTIMEZONE
BEGIN:VTIMEZONE
TZID:UTC
BEGIN:STANDARD
DTSTART:20250729T150608Z
TZOFFSETFROM:+0000
TZOFFSETTO:+0000
END:STANDARD
END:VTIMEZONE
BEGIN:VEVENT
UID:4-4
DTSTAMP:20260425T150608Z
SUMMARY:Inverness Christmas Parade
LOCATION:
ORGANIZER;CN=vote:MAILTO:katebetsko@gmail.com
DTSTART;TZID=Etc/GMT+0:20231209T120000
DTEND;TZID=Etc/GMT+0:20231209T130000
X-ALT-DESC;FMTTYPE=TEXT/HTML:Join the community in celebrating Christmas.
CATEGORIES:General
URL;VALUE=URI:https://www.lwvcitrus.org/mc-events/inverness-christmas-parad
 e/
METHOD:PUBLISH
END:VEVENT
END:VCALENDAR