BEGIN:VCALENDAR
VERSION:2.0
PRODID:spatie/icalendar-generator
DESCRIPTION:Events from LWVCC
X-WR-CALDESC:Events from LWVCC
REFRESH-INTERVAL;VALUE=DURATION:PT1440M
X-PUBLISHED-TTL:PT1440M
BEGIN:VTIMEZONE
TZID:Etc/GMT+0
BEGIN:STANDARD
DTSTART:20230307T180000Z
TZOFFSETFROM:+0000
TZOFFSETTO:+0000
END:STANDARD
END:VTIMEZONE
BEGIN:VTIMEZONE
TZID:UTC
BEGIN:STANDARD
DTSTART:20250729T190636Z
TZOFFSETFROM:+0000
TZOFFSETTO:+0000
END:STANDARD
END:VTIMEZONE
BEGIN:VEVENT
UID:3-3
DTSTAMP:20260425T190636Z
SUMMARY:Crystal River Christmas Parade
LOCATION:
ORGANIZER;CN=vote:MAILTO:katebetsko@gmail.com
DTSTART;TZID=Etc/GMT+0:20231202T180000
DTEND;TZID=Etc/GMT+0:20231202T200000
X-ALT-DESC;FMTTYPE=TEXT/HTML:Join us in celebrating Christmas as a communit
 y.
CATEGORIES:General
URL;VALUE=URI:https://www.lwvcitrus.org/mc-events/crystal-river-christmas-p
 arade/
METHOD:PUBLISH
END:VEVENT
END:VCALENDAR