BEGIN:VCALENDAR
VERSION:2.0
PRODID:spatie/icalendar-generator
DESCRIPTION:Events from LWVCC
X-WR-CALDESC:Events from LWVCC
REFRESH-INTERVAL;VALUE=DURATION:PT1440M
X-PUBLISHED-TTL:PT1440M
BEGIN:VTIMEZONE
TZID:Etc/GMT+0
BEGIN:STANDARD
DTSTART:20230217T100000Z
TZOFFSETFROM:+0000
TZOFFSETTO:+0000
END:STANDARD
END:VTIMEZONE
BEGIN:VTIMEZONE
TZID:UTC
BEGIN:STANDARD
DTSTART:20250729T225038Z
TZOFFSETFROM:+0000
TZOFFSETTO:+0000
END:STANDARD
END:VTIMEZONE
BEGIN:VEVENT
UID:2-2
DTSTAMP:20260425T225038Z
SUMMARY:LWV of Citrus November\, 2023 meeting
LOCATION:Central Ridge Library 425 W. Roosevelt Blvd  Beverly Hills Florida
  34452
ORGANIZER;CN=vote:MAILTO:katebetsko@gmail.com
DTSTART;TZID=Etc/GMT+0:20231114T100000
DTEND;TZID=Etc/GMT+0:20231114T113000
X-ALT-DESC;FMTTYPE=TEXT/HTML:Cregg Dalton\, our Citrus County Property Appr
 aiser\, will speak and answer questions.
CATEGORIES:General
URL;VALUE=URI:https://www.lwvcitrus.org/mc-events/lwv-of-citrus-november-20
 23-meeting/
METHOD:PUBLISH
END:VEVENT
END:VCALENDAR