BEGIN:VCALENDAR
VERSION:2.0
PRODID:spatie/icalendar-generator
DESCRIPTION:Events from LWVCC
X-WR-CALDESC:Events from LWVCC
REFRESH-INTERVAL;VALUE=DURATION:PT1440M
X-PUBLISHED-TTL:PT1440M
BEGIN:VTIMEZONE
TZID:Etc/GMT+0
BEGIN:STANDARD
DTSTART:20250208T190000Z
TZOFFSETFROM:+0000
TZOFFSETTO:+0000
END:STANDARD
END:VTIMEZONE
BEGIN:VTIMEZONE
TZID:UTC
BEGIN:STANDARD
DTSTART:20250727T132727Z
TZOFFSETFROM:+0000
TZOFFSETTO:+0000
END:STANDARD
END:VTIMEZONE
BEGIN:VEVENT
UID:171-159
DTSTAMP:20260423T132727Z
SUMMARY:Massullo/Marwah Candidate Forum for Senate District 11
LOCATION:
ORGANIZER;CN=cowit94617:MAILTO:cowit94617@dfesc.com
DTSTART;TZID=Etc/GMT+0:20251105T190000
DTEND;TZID=Etc/GMT+0:20251105T201500
X-ALT-DESC;FMTTYPE=TEXT/HTML:The Leagues of Women Voters of Citrus County\,
  and The Villages\, TriCounty\, are hosting a Zoom Candidate Forum for the
  candidates for the Florida State Senate\, District 11. The candidates are
  Ralph Massullo and Ash Marwah. The Forum will take place on Wednesday\, N
 ovember 5\, 2025\,  at 7 PM on Zoom. Registration is required. Only&amp;helli
 p\;
CATEGORIES:General
URL;VALUE=URI:https://www.lwvcitrus.org/mc-events/massullo-marwah-candidate
 -forum-for-senate-district-11/
METHOD:PUBLISH
END:VEVENT
END:VCALENDAR