BEGIN:VCALENDAR
VERSION:2.0
PRODID:spatie/icalendar-generator
DESCRIPTION:Events from LWVCC
X-WR-CALDESC:Events from LWVCC
REFRESH-INTERVAL;VALUE=DURATION:PT1440M
X-PUBLISHED-TTL:PT1440M
BEGIN:VTIMEZONE
TZID:Etc/GMT+0
BEGIN:STANDARD
DTSTART:20250118T190000Z
TZOFFSETFROM:+0000
TZOFFSETTO:+0000
END:STANDARD
END:VTIMEZONE
BEGIN:VTIMEZONE
TZID:UTC
BEGIN:STANDARD
DTSTART:20250727T182443Z
TZOFFSETFROM:+0000
TZOFFSETTO:+0000
END:STANDARD
END:VTIMEZONE
BEGIN:VEVENT
UID:170-155
DTSTAMP:20260423T182443Z
SUMMARY:Zoom Meeting with Commissioner Jeff Kinnard
LOCATION:
ORGANIZER;CN=cowit94617:MAILTO:cowit94617@dfesc.com
DTSTART;TZID=Etc/GMT+0:20251015T190000
DTEND;TZID=Etc/GMT+0:20251015T200000
X-ALT-DESC;FMTTYPE=TEXT/HTML:Commissioner Kinnard will appear to speak to u
 s about his duties and answer questions.
CATEGORIES:General
URL;VALUE=URI:https://www.lwvcitrus.org/mc-events/zoom-meeting-with-commiss
 ioner-jeff-kinnard/
METHOD:PUBLISH
END:VEVENT
END:VCALENDAR