BEGIN:VCALENDAR
VERSION:2.0
PRODID:spatie/icalendar-generator
DESCRIPTION:Events from LWVCC
X-WR-CALDESC:Events from LWVCC
REFRESH-INTERVAL;VALUE=DURATION:PT1440M
X-PUBLISHED-TTL:PT1440M
BEGIN:VTIMEZONE
TZID:Etc/GMT+0
BEGIN:STANDARD
DTSTART:20241214T100000Z
TZOFFSETFROM:+0000
TZOFFSETTO:+0000
END:STANDARD
END:VTIMEZONE
BEGIN:VTIMEZONE
TZID:UTC
BEGIN:STANDARD
DTSTART:20250727T182459Z
TZOFFSETFROM:+0000
TZOFFSETTO:+0000
END:STANDARD
END:VTIMEZONE
BEGIN:VEVENT
UID:167-156
DTSTAMP:20260423T182459Z
SUMMARY:Supervisor of Elections Mo Baird - LWVCitrus General Meeting
LOCATION:
ORGANIZER;CN=cowit94617:MAILTO:cowit94617@dfesc.com
DTSTART;TZID=Etc/GMT+0:20250910T100000
DTEND;TZID=Etc/GMT+0:20250910T113000
X-ALT-DESC;FMTTYPE=TEXT/HTML:Our Supervisor of Elections will tell us about
  the upcoming special elections and other changes in election law in Flori
 da.
CATEGORIES:General
URL;VALUE=URI:https://www.lwvcitrus.org/mc-events/supervisor-of-elections-m
 o-baird-lwvcitrus-general-meeting/
METHOD:PUBLISH
END:VEVENT
END:VCALENDAR