BEGIN:VCALENDAR
VERSION:2.0
PRODID:spatie/icalendar-generator
DESCRIPTION:Events from LWVCC
X-WR-CALDESC:Events from LWVCC
REFRESH-INTERVAL;VALUE=DURATION:PT1440M
X-PUBLISHED-TTL:PT1440M
BEGIN:VTIMEZONE
TZID:Etc/GMT+0
BEGIN:STANDARD
DTSTART:20241102T160000Z
TZOFFSETFROM:+0000
TZOFFSETTO:+0000
END:STANDARD
END:VTIMEZONE
BEGIN:VTIMEZONE
TZID:UTC
BEGIN:STANDARD
DTSTART:20250727T182443Z
TZOFFSETFROM:+0000
TZOFFSETTO:+0000
END:STANDARD
END:VTIMEZONE
BEGIN:VEVENT
UID:164-154
DTSTAMP:20260423T182443Z
SUMMARY:LWV Social at the Cattle Dog Restaurant in Inverness
LOCATION:Cattle Dog Coffee Roasters 210B Tompkins St  Inverness Florida 344
 50
ORGANIZER;CN=cowit94617:MAILTO:cowit94617@dfesc.com
DTSTART;TZID=Etc/GMT+0:20250730T160000
DTEND;TZID=Etc/GMT+0:20250730T174500
X-ALT-DESC;FMTTYPE=TEXT/HTML:We will meet\, chat\, and get to know each oth
 er.
CATEGORIES:General
URL;VALUE=URI:https://www.lwvcitrus.org/mc-events/lwv-social-at-the-cattle-
 dog-restaurant-in-inverness/
METHOD:PUBLISH
END:VEVENT
END:VCALENDAR