BEGIN:VCALENDAR
VERSION:2.0
PRODID:spatie/icalendar-generator
DESCRIPTION:Events from LWVCC
X-WR-CALDESC:Events from LWVCC
REFRESH-INTERVAL;VALUE=DURATION:PT1440M
X-PUBLISHED-TTL:PT1440M
BEGIN:VTIMEZONE
TZID:Etc/GMT+0
BEGIN:STANDARD
DTSTART:20240914T100000Z
TZOFFSETFROM:+0000
TZOFFSETTO:+0000
END:STANDARD
END:VTIMEZONE
BEGIN:VTIMEZONE
TZID:UTC
BEGIN:STANDARD
DTSTART:20250727T200926Z
TZOFFSETFROM:+0000
TZOFFSETTO:+0000
END:STANDARD
END:VTIMEZONE
BEGIN:VEVENT
UID:160-90
DTSTAMP:20260423T200926Z
SUMMARY:LWV Meeting Superintendent Scott Hebert
LOCATION:Coastal Region Library 8619 Crystal Street  Crystal River Florida 
 34429
ORGANIZER;CN=Public Submitter:MAILTO:
DTSTART;TZID=Etc/GMT+0:20250611T100000
DTEND;TZID=Etc/GMT+0:20250611T120000
X-ALT-DESC;FMTTYPE=TEXT/HTML:Superintendent Hebert will tell us about the s
 chool district and his plans for the future.
CATEGORIES:General
URL;VALUE=URI:https://www.lwvcitrus.org/mc-events/lwv-meeting-superintenden
 t-scott-hebert/
METHOD:PUBLISH
END:VEVENT
END:VCALENDAR