BEGIN:VCALENDAR
VERSION:2.0
PRODID:spatie/icalendar-generator
DESCRIPTION:Events from LWVCC
X-WR-CALDESC:Events from LWVCC
REFRESH-INTERVAL;VALUE=DURATION:PT1440M
X-PUBLISHED-TTL:PT1440M
BEGIN:VTIMEZONE
TZID:Etc/GMT+0
BEGIN:STANDARD
DTSTART:20240824T190000Z
TZOFFSETFROM:+0000
TZOFFSETTO:+0000
END:STANDARD
END:VTIMEZONE
BEGIN:VTIMEZONE
TZID:UTC
BEGIN:STANDARD
DTSTART:20250727T230511Z
TZOFFSETFROM:+0000
TZOFFSETTO:+0000
END:STANDARD
END:VTIMEZONE
BEGIN:VEVENT
UID:139-131
DTSTAMP:20260423T230511Z
SUMMARY:Special Zoom meeting with Holly Davis\, Board of Citrus County Comm
 issioner
LOCATION:
ORGANIZER;CN=cowit94617:MAILTO:cowit94617@dfesc.com
DTSTART;TZID=Etc/GMT+0:20250521T190000
DTEND;TZID=Etc/GMT+0:20250521T203000
X-ALT-DESC;FMTTYPE=TEXT/HTML:Holly will give us information and answer ques
 tions about the plan for growth in Citrus County. You must register for th
 is event. Go to https://us06web.zoom.us/meeting/register/20rm-gvhQbiiiUpsM
 NLaqw
CATEGORIES:General
URL;VALUE=URI:https://www.lwvcitrus.org/mc-events/special-zoom-meeting-with
 -holly-davis-board-of-citrus-county-commissioner-2/
METHOD:PUBLISH
END:VEVENT
END:VCALENDAR