BEGIN:VCALENDAR
VERSION:2.0
PRODID:spatie/icalendar-generator
DESCRIPTION:Events from LWVCC
X-WR-CALDESC:Events from LWVCC
REFRESH-INTERVAL;VALUE=DURATION:PT1440M
X-PUBLISHED-TTL:PT1440M
BEGIN:VTIMEZONE
TZID:Etc/GMT+0
BEGIN:STANDARD
DTSTART:20240730T100000Z
TZOFFSETFROM:+0000
TZOFFSETTO:+0000
END:STANDARD
END:VTIMEZONE
BEGIN:VTIMEZONE
TZID:UTC
BEGIN:STANDARD
DTSTART:20250727T194919Z
TZOFFSETFROM:+0000
TZOFFSETTO:+0000
END:STANDARD
END:VTIMEZONE
BEGIN:VEVENT
UID:137-129
DTSTAMP:20260423T194919Z
SUMMARY:Earth Day 2025 Earth Day Expo
LOCATION:IFAS Extension Citrus County 3650 W Sovereign Path\, Suite 1  Leca
 nto Florida 34461
ORGANIZER;CN=cowit94617:MAILTO:cowit94617@dfesc.com
DTSTART;TZID=Etc/GMT+0:20250426T100000
DTEND;TZID=Etc/GMT+0:20250426T130000
X-ALT-DESC;FMTTYPE=TEXT/HTML:This event will include a \"Trash to Treasure\
 " recycled art contest display\, activities for the whole family\, music\,
  food trucks\, \"Ask a Master Gardener\" and so much more! Rain or shine e
 vent. Website: www.facebook.com Contact Phone: (352) 527-5700 Contact Em
 ail: citrus@ifas.ufl.edu Category: Family Fun\, Informational\, Free
CATEGORIES:General
URL;VALUE=URI:https://www.lwvcitrus.org/mc-events/earth-day-2025-earth-day-
 expo/
METHOD:PUBLISH
END:VEVENT
END:VCALENDAR