BEGIN:VCALENDAR
VERSION:2.0
PRODID:spatie/icalendar-generator
DESCRIPTION:Events from LWVCC
X-WR-CALDESC:Events from LWVCC
REFRESH-INTERVAL;VALUE=DURATION:PT1440M
X-PUBLISHED-TTL:PT1440M
BEGIN:VTIMEZONE
TZID:Etc/GMT+0
BEGIN:STANDARD
DTSTART:20240709T110000Z
TZOFFSETFROM:+0000
TZOFFSETTO:+0000
END:STANDARD
END:VTIMEZONE
BEGIN:VTIMEZONE
TZID:UTC
BEGIN:STANDARD
DTSTART:20250727T213812Z
TZOFFSETFROM:+0000
TZOFFSETTO:+0000
END:STANDARD
END:VTIMEZONE
BEGIN:VEVENT
UID:134-126
DTSTAMP:20260423T213812Z
SUMMARY:YMCA Healthy Kids Fair
LOCATION:College of Central Florida 3800 S Lecanto Highway  Lecanto FL 3446
 1
ORGANIZER;CN=cowit94617:MAILTO:cowit94617@dfesc.com
DTSTART;TZID=Etc/GMT+0:20250405T110000
DTEND;TZID=Etc/GMT+0:20250405T140000
X-ALT-DESC;FMTTYPE=TEXT/HTML:The League of Women Voters of Citrus County wi
 ll have a table where volunteers will inform the public about the League a
 nd about Save Storage of Guns.
CATEGORIES:General
URL;VALUE=URI:https://www.lwvcitrus.org/mc-events/ymca-healthy-kids-fair/
METHOD:PUBLISH
END:VEVENT
END:VCALENDAR