BEGIN:VCALENDAR
VERSION:2.0
PRODID:spatie/icalendar-generator
DESCRIPTION:Events from LWVCC
X-WR-CALDESC:Events from LWVCC
REFRESH-INTERVAL;VALUE=DURATION:PT1440M
X-PUBLISHED-TTL:PT1440M
BEGIN:VTIMEZONE
TZID:Etc/GMT+0
BEGIN:STANDARD
DTSTART:20240629T190000Z
TZOFFSETFROM:+0000
TZOFFSETTO:+0000
END:STANDARD
END:VTIMEZONE
BEGIN:VTIMEZONE
TZID:UTC
BEGIN:STANDARD
DTSTART:20250727T232250Z
TZOFFSETFROM:+0000
TZOFFSETTO:+0000
END:STANDARD
END:VTIMEZONE
BEGIN:VEVENT
UID:132-124
DTSTAMP:20260423T232250Z
SUMMARY:LWV Citrus Zoom special event: Rebecca Bays\, Paving our Roads in C
 itrus County
LOCATION:
ORGANIZER;CN=cowit94617:MAILTO:cowit94617@dfesc.com
DTSTART;TZID=Etc/GMT+0:20250326T190000
DTEND;TZID=Etc/GMT+0:20250326T200000
X-ALT-DESC;FMTTYPE=TEXT/HTML:Citrus County Commissioner Rebecca Bays will a
 ppear in our zoom meeting on Wednesday\, March 26\, 2025 at 7PM. She will 
 outline the County's plan for road improvement\, and will answer questions
  from the audience. In order to attend you will need to register.   Copy
  and paste this link to register.   https://us06web.zoom.us/meeting/regi
 ster/gAKW5C0SQ6KemCHhjy4rlg
CATEGORIES:General
URL;VALUE=URI:https://www.lwvcitrus.org/mc-events/lwv-citrus-zoom-special-e
 vent-rebecca-bays-paving-our-roads-in-citrus-county/
METHOD:PUBLISH
END:VEVENT
END:VCALENDAR