BEGIN:VCALENDAR
VERSION:2.0
PRODID:spatie/icalendar-generator
DESCRIPTION:Events from LWVCC
X-WR-CALDESC:Events from LWVCC
REFRESH-INTERVAL;VALUE=DURATION:PT1440M
X-PUBLISHED-TTL:PT1440M
BEGIN:VTIMEZONE
TZID:Etc/GMT+0
BEGIN:STANDARD
DTSTART:20240529T143000Z
TZOFFSETFROM:+0000
TZOFFSETTO:+0000
END:STANDARD
END:VTIMEZONE
BEGIN:VTIMEZONE
TZID:UTC
BEGIN:STANDARD
DTSTART:20250727T235559Z
TZOFFSETFROM:+0000
TZOFFSETTO:+0000
END:STANDARD
END:VTIMEZONE
BEGIN:VEVENT
UID:129-122
DTSTAMP:20260423T235559Z
SUMMARY:African American Read-In
LOCATION:Curtis Peterson Auditorium 3810 W Educational Path  Lecanto Florid
 a 34461
ORGANIZER;CN=cowit94617:MAILTO:cowit94617@dfesc.com
DTSTART;TZID=Etc/GMT+0:20250223T143000
DTEND;TZID=Etc/GMT+0:20250223T163000
X-ALT-DESC;FMTTYPE=TEXT/HTML:Volunteers will read literature and entertainm
 ent will be provided.
CATEGORIES:General
URL;VALUE=URI:https://www.lwvcitrus.org/mc-events/african-american-read-in/
METHOD:PUBLISH
END:VEVENT
END:VCALENDAR