BEGIN:VCALENDAR
VERSION:2.0
PRODID:spatie/icalendar-generator
DESCRIPTION:Events from LWVCC
X-WR-CALDESC:Events from LWVCC
REFRESH-INTERVAL;VALUE=DURATION:PT1440M
X-PUBLISHED-TTL:PT1440M
BEGIN:VTIMEZONE
TZID:Etc/GMT+0
BEGIN:STANDARD
DTSTART:20230309T080000Z
TZOFFSETFROM:+0000
TZOFFSETTO:+0000
END:STANDARD
END:VTIMEZONE
BEGIN:VTIMEZONE
TZID:UTC
BEGIN:STANDARD
DTSTART:20250729T172218Z
TZOFFSETFROM:+0000
TZOFFSETTO:+0000
END:STANDARD
END:VTIMEZONE
BEGIN:VEVENT
UID:11-11
DTSTAMP:20260425T172218Z
SUMMARY:Library Advisory Board
LOCATION:
ORGANIZER;CN=vote:MAILTO:katebetsko@gmail.com
DTSTART;TZID=Etc/GMT+0:20231204T080000
DTEND;TZID=Etc/GMT+0:20231204T100000
X-ALT-DESC;FMTTYPE=TEXT/HTML:
CATEGORIES:General
URL;VALUE=URI:https://www.lwvcitrus.org/mc-events/library-advisory-board/
METHOD:PUBLISH
END:VEVENT
END:VCALENDAR