BEGIN:VCALENDAR
VERSION:2.0
PRODID:spatie/icalendar-generator
DESCRIPTION:Events from LWVCC
X-WR-CALDESC:Events from LWVCC
REFRESH-INTERVAL;VALUE=DURATION:PT1440M
X-PUBLISHED-TTL:PT1440M
BEGIN:VTIMEZONE
TZID:Etc/GMT+0
BEGIN:STANDARD
DTSTART:20230317T113000Z
TZOFFSETFROM:+0000
TZOFFSETTO:+0000
END:STANDARD
END:VTIMEZONE
BEGIN:VTIMEZONE
TZID:UTC
BEGIN:STANDARD
DTSTART:20250729T120158Z
TZOFFSETFROM:+0000
TZOFFSETTO:+0000
END:STANDARD
END:VTIMEZONE
BEGIN:VEVENT
UID:10-10
DTSTAMP:20260425T120158Z
SUMMARY:LWV of Citrus County December meeting
LOCATION:Cafe Aromas 299 E Gulf to Lake Highway  Lecanto Florida 34461
ORGANIZER;CN=vote:MAILTO:katebetsko@gmail.com
DTSTART;TZID=Etc/GMT+0:20231212T113000
DTEND;TZID=Etc/GMT+0:20231212T130000
X-ALT-DESC;FMTTYPE=TEXT/HTML:Our guest speaker will be Jim Gouvellis\, edit
 or of the Citrus County Chronicle. He will speak on \"Freedom of speech\; 
 why does it matter?\"
CATEGORIES:General
URL;VALUE=URI:https://www.lwvcitrus.org/mc-events/lwv-of-citrus-county-dece
 mber-meeting/
METHOD:PUBLISH
END:VEVENT
END:VCALENDAR